BEGIN:VCALENDAR
VERSION:1.0
PRODID:Open2CKalenderExportV11
BEGIN:VEVENT
DTSTAMP:20251113T230000Z
DTSTART:20260530T090000Z
DTEND:20260530T120000Z
SUMMARY:Altpapiersammlung des SV Bertoldsheim
DESCRIPTION: | Organisator   SV Bertoldsheim
LOCATION:Bertoldsheim, Erlbach, Neuhausen
UID:2c7f3f054e528fb950e7fe286c04fab4-0cc1c5c823c838ef2c8fe1668e1b23cf
PRIORITY:3
END:VEVENT
END:VCALENDAR
