BEGIN:VCALENDAR
VERSION:1.0
PRODID:Open2CKalenderExportV11
BEGIN:VEVENT
DTSTAMP:20230615T082036Z
DTSTART:20240921T200000Z
DTEND:20240921T230000Z
URL:http://wordpress.kleinkunst-rennertshofen.de/
SUMMARY:Kabarett mit Helmut A. Binser
DESCRIPTION:Kabarett mit Helmut A. Binser | weitere Informationen folgen |   | Organisator   Kleinkunstbühne Rennertshofen | Kontakt   Königsdorfer Dietmar Kleinkunst Rennertshofen | 08434-1313 | info@kleinkunst-rennertshofen.de
LOCATION:Tennisheim Rennertshofen
UID:bd9dfa70be60400a8ebce6527cd96a9b-b525ecc4d75137d0a7e21b65af13e60f
PRIORITY:3
END:VEVENT
END:VCALENDAR
