BEGIN:VCALENDAR
VERSION:1.0
PRODID:Open2CKalenderExportV11
BEGIN:VEVENT
DTSTAMP:20240220T075629Z
DTSTART:20240512T090000Z
DTEND:20240512T120000Z
SUMMARY:Gemeinsame Bittprozession des Pfarrverbands Tagmersheim Rögling Ammerfeld
DESCRIPTION:Gemeinsame Bittprozession des Pfarrverbands Tagmersheim Rögling Ammerfeld | anschließend Pfarrversammlung | Organisator   Pfarrverband Tagmersheim Rögling Ammerfeld
LOCATION:Rögling
UID:50493da5e53ed4b839f07ba60de4b671-f186166e20512c6c1ed771e8114c3580
PRIORITY:3
END:VEVENT
END:VCALENDAR
