BEGIN:VCALENDAR
VERSION:1.0
PRODID:Open2CKalenderExportV11
BEGIN:VEVENT
DTSTAMP:20260114T133440Z
DTSTART:20260201T150000Z
DTEND:20260201T160000Z
URL:https://www.kulturtreffrennertshofen.de/
SUMMARY:Kinofilm DER BILDWERFER im Kulturtreff Rennertshofen
DESCRIPTION:Der Bildwerfer kehrt zurück ins Dorfkino |   | Ein Film. Ein Ort. Eine Erinnerung. |   | Anlässlich des 15. Todestages von Fritz Appel am 27. Januar erinnert der Kulturtreff Rennertshofen an den früheren Betreiber des Rennertshofener Dorfkinos und zeigt in eben diesem neu renovierten Kino den Dokumentarfilm. |   | DER BILDWERFER | Aus dem Leben eines bayrischen Dorfkinos. |   | Der Film ist eine poetische Dokumentation über die Geschichte des Dorfkinos in Rennertshofen und die besondere Faszination des gemeinschaftlichen Kinoerlebnisses – gemeinsam staunen, lachen und träumen. | Mitwirkende sind u. a. Fritz Appel, Lutz Mayer, Horst Metzker sowie der gebürtige Rennertshofener und international bekannte Filmproduzent und -regisseur Bernd Eichinger („Das Parfum“, „Der Name der Rose“, uvm.), der der Premiere 2010 persönlich beiwohnte. |   | Eintritt frei – Spenden erwünscht |   | Bitte kostenlose Karten online über unsere Homepage reservieren. |   | Ein besonderer Nachmittag für alle Rennertshofener – und für alle, die Kino lieben. | Organisator   Kulturtreff Rennertshofen | Marktstraße 24 | 86643 Rennertshofen | Kontakt   Kulturtreff Rennertshofen | kontakt@kulturtreffrennertshofen.de
LOCATION:Kulturtreff Rennertshofen
 Marktstraße 24
 86643 Rennertshofen
UID:6aacf380fcc39fc096b0301dae24d5cb-5b1c4e255a461473fcfac45bb745d813
PRIORITY:3
END:VEVENT
END:VCALENDAR
