BEGIN:VCALENDAR
VERSION:2.0
PRODID:< http://www.open2c.de/ >
METHOD:PUBLISH
X-PUBLISHED-TTL:PT12H
BEGIN:VEVENT
CREATED:20250617T220000Z
LAST-MODIFIED:20251010T080833Z
ORGANIZER;CN="Kleinkunst Rennertshofen":MAILTO:Dietmar Königsdorfer Dietmar\n084341313\ninfo@kleinkunst-rennertshofen.de\nMarktstr. \nRennertshofen\nKulturtreff
DTSTAMP:20260423T090724Z
DTSTART:20260313T200000Z
DTEND:20260313T230000Z
URL:http://wordpress.kleinkunst-rennertshofen.de/
SUMMARY:Kabarett mit Rolf Miller "WENN NICHT WANN DANN JETZT" im Kulturtreff Rennertshofen
DESCRIPTION:Kabarett mit Rolf Miller und seinem Programm "WENN NICHT WANN D
	ANN JETZT". Organisator Kleinkunst Rennertshofen Kontakt Dietmar Königsdo
	rfer Dietmar 084341313 info@kleinkunst-rennertshofen.de Marktstr. Rennerts
	hofen Kulturtreff
LOCATION:Kulturtreff Rennertshofen
UID:fb16f91fab377347a631ff50e5cf394d@923639cad3c11d58ac1fa310a63e2e04
END:VEVENT
END:VCALENDAR